Workbook

Sheet город
A1: Форма ПС-ШЭ-2
A2: Отчёт о проведении школьного этапа Всероссийских спортивных соревнований школьников "Президентские состязания" в 2020/2021 учебном году в городских поселениях (далее - Президентские состязания)
A3: № п\п | B3: Наименование муниципального образования | C3: Общее количество общеобразовательных организаций в муниципальном образовании в городских поселениях (по состоянию на 1 января 2021 года) | D3: Количество общеобразовательных организаций, принявших участие в школьном этапе Президентских состязаний в городских поселениях | E3: Показатель процента общеобразовательных организаций, принявших участие в школьном этапе Президентских состязаний в городских поселениях, % | F3: Общее количество обучающихся в общеобразовательных организациях муниципального образования по уровням общего образования, за исключением дошкольного образования в городских поселениях (по состоянию на 1 января 2021 г.) | J3: Количество обучающихся в общеобразовательных организациях муниципального образования по уровням общего образования, за исключением дошкольного образования, принявших участие в школьном этапе Президентских состязаний в городских поселениях | N3: Показатель процента обучающихся общеобразовательных организаций муниципального образования по уровням общего образования, за исключением дошкольного образования, принявших участие в школьном этапе Президентских состязаний в городских поселениях (по состоянию на 1 января 2021 г.), % | R3: Общая информация проведения школьного этапа: (обобщённая информация по общеобразовательным организациям муниципального образования) | Y3: Объём, выделяемых ассигнований (тыс. рублей)
F4: начальное общее образование | G4: основное общее образование | H4: среднее общее образование | I4: всего | J4: начальное общее образование | K4: основное общее образование | L4: среднее общее образование | M4: всего | N4: начальное общее образование | O4: основное общее образование | P4: среднее общее образование | Q4: всего | R4: Формы проведения и виды программы | X4: Освещение в СМИ и сети Интернет
R5: очная | T5: дистанционная | V5: онлайн | Y5: По разделу "Образование" | Z5: По разделу "Спорт" | AA5: Внебюджетные источники
R6: Факт проведения | S6: Виды программы | T6: Факт проведения | U6: Виды программы | V6: Факт проведения | W6: Виды программы
A7: 1 | B7: Репьевский муниципальный район | E7: =IFERROR(D7/C7*100,0) -> 0 | I7: =SUM(F7+G7+H7) -> 0 | M7: =SUM(J7+K7+L7) -> 0 | N7: =IFERROR(J7/F7*100,0) -> 0 | O7: =IFERROR(K7/G7*100,0) -> 0 | P7: =IFERROR(L7/H7*100,0) -> 0 | Q7: =IFERROR(M7/I7*100,0) -> 0

Sheet Школьный этап село 
A1: Форма 1
A2: Отчёт о проведении школьного этапа Всероссийских спортивных соревнований школьников "Президентские состязания" в 2019/2020 учебном году в сельских поселениях (далее - Президентские состязания)
A3: № п\п | B3: Наименование субъекта Российской Федерации | C3: Общее количество общеобразовательных организаций субъекта Российской Федерации в сельской местности (по состоянию на 1 января 2020 года) | D3: Количество общеобразовательных организаций, принявших участие в школьном этапе Президентских состязаний в сельской местности | E3: Показатель процента общеобразовательных организаций, принявших участие в школьном этапе Президентских состязаний в сельской местности, % | F3: Общее количество обучающихся в общеобразовательных организациях субъекта Российской Федерации по уровням общего образования, за исключением дошкольного образования в сельской местности (по состоянию на 1 января 2020 г.) | N3: Количество обучающихся в общеобразовательных организациях субъекта Российской Федерации по уровням общего образования, за исключением дошкольного образования, принявших участие в школьном этапе Президентских состязаний в сельской местности | R3: Показатель процента обучающихся общеобразовательных организаций субъекта Российской Федерации по уровням общего образования, за исключением дошкольного образования, принявших участие в школьном этапе Президентских состязаний в сельской местности (по состоянию на 1 января 2020 г.), % | V3: Общая информация проведения школьного этапа: 1. Основные виды программы (обобщённая информация об общеобразовательных организациях); 2. Освещение в СМИ | W3: Объём, выделяемых ассигнований (тыс. рублей)
F4: начальное общее образование | H4: основное общее образование | J4: среднее общее образование | L4: всего | N4: начальное общее образование | O4: основное общее образование | P4: среднее общее образование | Q4: всего | R4: начальное общее образование | S4: основное общее образование | T4: среднее общее образование | U4: всего
F5: количество обучающихся | G5: в том числе отнесённые к специальной медицинской группе для занятий физической культурой и спортом | H5: количество обучающихся | I5: в том числе отнесённые к специальной медицинской группе для занятий физической культурой и спортом | J5: количество обучающихся | K5: в том числе отнесённые к специальной медицинской группе для занятий физической культурой и спортом | L5: количество обучающихся | M5: в том числе отнесённые к специальной медицинской группе для занятий физической культурой и спортом | W5: По разделу "Образование" | X5: По разделу "Спорт" | Y5: Внебюджетные источники
E6: =IFERROR(D6/C6*100,0) -> 0 | L6: =SUM(F6+H6+J6) -> 0 | M6: =SUM(G6+I6+K6) -> 0 | Q6: =SUM(N6+O6+P6) -> 0 | R6: =IFERROR(N6/F6*100,0) -> 0 | S6: =IFERROR(O6/H6*100,0) -> 0 | T6: =IFERROR(P6/J6*100,0) -> 0 | U6: =IFERROR(Q6/L6*100,0) -> 0

Sheet   село
A1: Форма ПС-ШЭ-2
A2: Отчёт о проведении школьного этапа Всероссийских спортивных соревнований школьников "Президентские состязания" в 2020/2021 учебном году в сельской местности (далее - Президентские состязания)
A3: № п\п | B3: Наименование муниципального образования | C3: Общее количество общеобразовательных организаций в муниципальном образовании в сельской местности (по состоянию на 1 января 2021 года) | D3: Количество общеобразовательных организаций, принявших участие в школьном этапе Президентских состязаний в сельской местности | E3: Показатель процента общеобразовательных организаций, принявших участие в школьном этапе Президентских состязаний в сельской местности, % | F3: Общее количество обучающихся в общеобразовательных организациях муниципального образования по уровням общего образования, за исключением дошкольного образования в сельской местности (по состоянию на 1 января 2021 г.) | J3: Количество обучающихся в общеобразовательных организациях муниципального образования по уровням общего образования, за исключением дошкольного образования, принявших участие в школьном этапе Президентских состязаний в сельской местности | N3: Показатель процента обучающихся общеобразовательных организаций муниципального образования по уровням общего образования, за исключением дошкольного образования, принявших участие в школьном этапе Президентских состязаний в сельской местности (по состоянию на 1 января 2021 г.), % | R3: Общая информация проведения школьного этапа: (обобщённая информация по общеобразовательным организациям муниципального образования) | Y3: Объём, выделяемых ассигнований (тыс. рублей)
F4: начальное общее образование | G4: основное общее образование | H4: среднее общее образование | I4: всего | J4: начальное общее образование | K4: основное общее образование | L4: среднее общее образование | M4: всего | N4: начальное общее образование | O4: основное общее образование | P4: среднее общее образование | Q4: всего | R4: Формы проведения и виды программы | X4: Освещение в СМИ и сети Интернет
R5: очная | T5: дистанционная | V5: онлайн | Y5: По разделу "Образование" | Z5: По разделу "Спорт" | AA5: Внебюджетные источники
R6: Факт проведения | S6: Виды программы | T6: Факт проведения | U6: Виды программы | V6: Факт проведения | W6: Виды программы
A7: 1 | B7: =город!B7 -> Репьевский муниципальный район | C7: 8 | D7: 7 | E7: =IFERROR(D7/C7*100,0) -> 87.5 | F7: 414 | G7: 497 | H7: 92 | I7: =SUM(F7+G7+H7) -> 1003 | J7: 126 | K7: 192 | L7: 24 | M7: =SUM(J7+K7+L7) -> 342 | N7: =IFERROR(J7/F7*100,0) -> 30.434783 | O7: =IFERROR(K7/G7*100,0) -> 38.631791 | P7: =IFERROR(L7/H7*100,0) -> 26.086957 | Q7: =IFERROR(M7/I7*100,0) -> 34.097707 | R7: 1 | S7: Бадминтон, волейбол,минифутбол,шахматы, эстафетный бег,спортивное многоборье. | T7: 0 | U7: 0 | V7: 0 | W7: 0 | X7: https://vk.com/public195699599 | Y7: 0 | Z7: 0 | AA7: 0

Sheet общее (не заполняется)
A1: Форма ПС-ШЭ-2
A2: Отчёт о проведении школьного этапа Всероссийских спортивных соревнований школьников "Президентские состязания" в 2020/2021 учебном году (далее - Президентские состязания)
A3: № п\п | B3: Наименование муниципального образования | C3: Общее количество общеобразовательных организаций в муниципальном образовании (по состоянию на 1 января 2021 года) | F3: Количество общеобразовательных организаций, принявших участие в школьном этапе Президентских состязаний | I3: Показатель процента общеобразовательных организаций, принявших участие в школьном этапе Президентских состязаний, % | L3: Общее количество обучающихся в общеобразовательных организациях муниципального образования по уровням общего образования, за исключением дошкольного образования (по состоянию на 1 января 2021 г.) | S3: Количество обучающихся в общеобразовательных организациях муниципального образования по уровням общего образования, за исключением дошкольного образования, принявших участие в школьном этапе Президентских состязаний | Z3: Показатель процента обучающихся общеобразовательных организаций муниципального образования по уровням общего образования, за исключением дошкольного образования, принявших участие в школьном этапе Президентских состязаний (по состоянию на 1 января 2021 г.), % | AG3: Общая информация проведения школьного этапа: (обобщённая информация по общеобразовательным организациям муниципального образования) | AX3: Объём, выделяемых ассигнований (тыс. рублей)
C4: в городских поселениях | D4: в сельской местности | E4: Всего | F4: в городских поселениях | G4: в сельской местности | H4: Всего | I4: в городских поселениях | J4: в сельской местности | K4: Всего | L4: начальное общее образование | N4: основное общее образование | P4: среднее общее образование | R4: всего | S4: начальное общее образование | U4: основное общее образование | W4: среднее общее образование | Y4: всего | Z4: начальное общее образование | AB4: основное общее образование | AD4: среднее общее образование | AF4: всего | AG4: В городских поселениях | AN4: В сельской местности | AU4: Общее (формы проведения) | AX4: В городских поселениях | BA4: В сельской местности | BD4: Всего
L5: в городских поселениях | M5: в сельской местности | N5: в городских поселениях | O5: в сельской местности | P5: в городских поселениях | Q5: в сельской местности | S5: в городских поселениях | T5: в сельской местности | U5: в городских поселениях | V5: в сельской местности | W5: в городских поселениях | X5: в сельской местности | Z5: в городских поселениях | AA5: в сельской местности | AB5: в городских поселениях | AC5: в сельской местности | AD5: в городских поселениях | AE5: в сельской местности | AG5: Формы проведения и виды программы | AM5: Освещение в СМИ и сети Интернет | AN5: Формы проведения и виды программы | AT5: Освещение в СМИ и сети Интернет | AX5: По разделу "Образование" | AY5: По разделу "Спорт" | AZ5: Внебюджетные источники | BA5: По разделу "Образование" | BB5: По разделу "Спорт" | BC5: Внебюджетные источники | BD5: По разделу "Образование" | BE5: По разделу "Спорт" | BF5: Внебюджетные источники
AG6: очная | AI6: дистанционная | AK6: онлайн | AN6: очная | AP6: дистанционная | AR6: онлайн | AU6: очная | AV6: дистанционная | AW6: онлайн
AG7: Факт проведения | AH7: Виды программы | AI7: Факт проведения | AJ7: Виды программы | AK7: Факт проведения | AL7: Виды программы | AN7: Факт проведения | AO7: Виды программы | AP7: Факт проведения | AQ7: Виды программы | AR7: Факт проведения | AS7: Виды программы
B8: =город!B7 -> Репьевский муниципальный район | C8: =город!C7 -> 0 | D8: =' село'!C7 -> 8 | E8: =SUM(C8+D8) -> 8 | F8: =город!D7 -> 0 | G8: =' село'!D7 -> 7 | H8: =SUM(F8+G8) -> 7 | I8: =город!E7 -> 0 | J8: =' село'!E7 -> 87.5 | K8: =IFERROR(H8/E8*100,0) -> 87.5 | L8: =город!F7 -> 0 | M8: =' село'!F7 -> 414 | N8: =город!G7 -> 0 | O8: =' село'!G7 -> 497 | P8: =город!H7 -> 0 | Q8: =' село'!H7 -> 92 | R8: =SUM(L8+M8+N8+O8+P8+Q8) -> 1003 | S8: =город!J7 -> 0 | T8: =' село'!J7 -> 126 | U8: =город!K7 -> 0 | V8: =' село'!K7 -> 192 | W8: =город!L7 -> 0 | X8: =' село'!L7 -> 24 | Y8: =SUM(S8+T8+U8+V8+W8+X8) -> 342 | Z8: =город!N7 -> 0 | AA8: =' село'!N7 -> 30.434783 | AB8: =город!O7 -> 0 | AC8: =' село'!O7 -> 38.631791 | AD8: =город!P7 -> 0 | AE8: =' село'!P7 -> 26.086957 | AF8: =IFERROR(Y8/R8*10,0) -> 3.4097707 | AG8: =город!R7 -> 0 | AH8: =город!S7 -> 0 | AI8: =город!T7 -> 0 | AJ8: =город!U7 -> 0 | AK8: =город!V7 -> 0 | AL8: =город!W7 -> 0 | AM8: =город!X7 -> 0 | AN8: =' село'!R7 -> 1 | AO8: =' село'!S7 -> Бадминтон, волейбол,минифутбол,шахматы, эстафетный бег,спортивное многоборье. | AP8: =' село'!T7 -> 0 | AQ8: =' село'!U7 -> 0 | AR8: =' село'!V7 -> 0 | AS8: =' село'!W7 -> 0 | AT8: =' село'!X7 -> https://vk.com/public195699599 | AU8: =SUM(AG8+AN8) -> 1 | AV8: =SUM(AI8+AP8) -> 0 | AW8: =SUM(AK8+AR8) -> 0 | AX8: =город!Y7 -> 0 | AY8: =город!Z7 -> 0 | AZ8: =город!AA7 -> 0 | BA8: =' село'!Y7 -> 0 | BB8: =' село'!Z7 -> 0 | BC8: =' село'!AA7 -> 0 | BD8: =SUM(AX8+BA8) -> 0 | BE8: =SUM(AY8+BB8) -> 0 | BF8: =SUM(AZ8+BC8) -> 0

Sheet Инструкция
A1: Инструкция по заполнению Формы отчета ПС-ШЭ-2
A2: для ответственных в муниципальных образованиях за предоставление информации о проведение школьного этапа Всероссийских спортивных соревнований школьников «Президентские состязания» в 2020-2021 учебном году
A3: Для предоставления информации о проведении школьного этапа соревнований "Президентские состязания" в муниципальном образовании необходимо заполнить Форму отчета ПС-ШЭ-2.
A4: 1. Соберите информацию по Форме ПС-ШЭ-1 с общеобразовательных организаций.
A5: 2. Обобщите данные (отдельно по городским и сельским общеобразовательным организациям).
A6: 3. Внимательно ознакомьтесь с содержанием таблицы - Форма отчета ПС-ШЭ-2.
A7: 4. Выберите вкладку «город».
A8: 5. Заполните данные по общеобразовательным организациям, находящимся в городских поселениях.
A9: 6. В столбец В – впишите название муниципального образования.
A10: 7. В столбцы C, D – вносится обобщенная информация о количестве общеобразовательных организациях в городских поселения муниципального образования:
A11: · столбец C – общее количество общеобразовательных организаций на 1 января 2021 года;
A12: · столбец D – количество общеобразовательных организаций, принявших участие в школьном этапе;
... A44: ВНИМАНИЕ! Вкладка «общее» не заполняется, она формируется автоматически.
